Package: SubCellBarCode Version: 1.14.0 Command: rm -rf SubCellBarCode.buildbin-libdir && mkdir SubCellBarCode.buildbin-libdir && /Users/biocbuild/BBS/utils/build-universal.sh SubCellBarCode_1.14.0.tar.gz /Library/Frameworks/R.framework/Resources/bin/R SubCellBarCode.buildbin-libdir StartedAt: 2023-04-18 19:58:58 -0400 (Tue, 18 Apr 2023) EndedAt: 2023-04-18 19:59:58 -0400 (Tue, 18 Apr 2023) EllapsedTime: 60.4 seconds RetCode: 0 Status: OK PackageFile: SubCellBarCode_1.14.0.tgz PackageFileSize: 2.58 MiB