Package: Streamer Version: 1.44.0 Command: /Library/Frameworks/R.framework/Resources/bin/R CMD INSTALL Streamer StartedAt: 2023-04-16 14:22:13 -0400 (Sun, 16 Apr 2023) EndedAt: 2023-04-16 14:22:26 -0400 (Sun, 16 Apr 2023) EllapsedTime: 12.6 seconds RetCode: 0 Status: OK