Package: Streamer Version: 1.44.0 Command: /Library/Frameworks/R.framework/Resources/bin/R CMD build --keep-empty-dirs --no-resave-data Streamer StartedAt: 2023-04-18 09:37:17 -0400 (Tue, 18 Apr 2023) EndedAt: 2023-04-18 09:37:44 -0400 (Tue, 18 Apr 2023) EllapsedTime: 26.6 seconds RetCode: 0 Status: OK PackageFile: Streamer_1.44.0.tar.gz PackageFileSize: 134.5 KiB