Package: SpatialFeatureExperiment Version: 1.0.3 Command: /Library/Frameworks/R.framework/Resources/bin/R CMD INSTALL SpatialFeatureExperiment StartedAt: 2023-04-16 15:14:51 -0400 (Sun, 16 Apr 2023) EndedAt: 2023-04-16 15:16:01 -0400 (Sun, 16 Apr 2023) EllapsedTime: 70.0 seconds RetCode: 0 Status: OK