Package: SpatialExperiment Version: 1.8.1 Command: /Library/Frameworks/R.framework/Resources/bin/R CMD INSTALL SpatialExperiment StartedAt: 2023-04-16 15:13:59 -0400 (Sun, 16 Apr 2023) EndedAt: 2023-04-16 15:14:49 -0400 (Sun, 16 Apr 2023) EllapsedTime: 50.4 seconds RetCode: 0 Status: OK