Package: SimFFPE Version: 1.10.0 Command: /Library/Frameworks/R.framework/Resources/bin/R CMD INSTALL SimFFPE StartedAt: 2023-04-16 16:03:56 -0400 (Sun, 16 Apr 2023) EndedAt: 2023-04-16 16:04:19 -0400 (Sun, 16 Apr 2023) EllapsedTime: 23.5 seconds RetCode: 0 Status: OK