Package: SLqPCR Version: 1.64.0 Command: rm -rf SLqPCR.buildbin-libdir && mkdir SLqPCR.buildbin-libdir && /Users/biocbuild/BBS/utils/build-universal.sh SLqPCR_1.64.0.tar.gz /Library/Frameworks/R.framework/Resources/bin/R SLqPCR.buildbin-libdir StartedAt: 2023-04-18 19:42:58 -0400 (Tue, 18 Apr 2023) EndedAt: 2023-04-18 19:43:05 -0400 (Tue, 18 Apr 2023) EllapsedTime: 6.8 seconds RetCode: 0 Status: OK PackageFile: SLqPCR_1.64.0.tgz PackageFileSize: 234.8 KiB