Package: SDAMS Version: 1.18.0 Command: /Library/Frameworks/R.framework/Resources/bin/R CMD build --keep-empty-dirs --no-resave-data SDAMS StartedAt: 2023-04-18 06:39:43 -0400 (Tue, 18 Apr 2023) EndedAt: 2023-04-18 06:40:43 -0400 (Tue, 18 Apr 2023) EllapsedTime: 60.6 seconds RetCode: 0 Status: OK PackageFile: SDAMS_1.18.0.tar.gz PackageFileSize: 1.175 MiB