Package: SDAMS Version: 1.18.0 Command: rm -rf SDAMS.buildbin-libdir && mkdir SDAMS.buildbin-libdir && /Users/biocbuild/BBS/utils/build-universal.sh SDAMS_1.18.0.tar.gz /Library/Frameworks/R.framework/Resources/bin/R SDAMS.buildbin-libdir StartedAt: 2023-04-18 19:26:21 -0400 (Tue, 18 Apr 2023) EndedAt: 2023-04-18 19:27:08 -0400 (Tue, 18 Apr 2023) EllapsedTime: 46.4 seconds RetCode: 0 Status: OK PackageFile: SDAMS_1.18.0.tgz PackageFileSize: 1022 KiB