Package: SCnorm Version: 1.20.0 Command: /Library/Frameworks/R.framework/Resources/bin/R CMD INSTALL SCnorm StartedAt: 2023-04-16 15:11:04 -0400 (Sun, 16 Apr 2023) EndedAt: 2023-04-16 15:11:50 -0400 (Sun, 16 Apr 2023) EllapsedTime: 45.9 seconds RetCode: 0 Status: OK