Package: SC3 Version: 1.26.2 Command: /Library/Frameworks/R.framework/Resources/bin/R CMD INSTALL SC3 StartedAt: 2023-04-16 14:52:04 -0400 (Sun, 16 Apr 2023) EndedAt: 2023-04-16 14:53:21 -0400 (Sun, 16 Apr 2023) EllapsedTime: 76.9 seconds RetCode: 0 Status: OK