Package: SC3 Version: 1.26.2 Command: /Library/Frameworks/R.framework/Resources/bin/R CMD build --keep-empty-dirs --no-resave-data SC3 StartedAt: 2023-04-18 03:19:57 -0400 (Tue, 18 Apr 2023) EndedAt: 2023-04-18 03:49:24 -0400 (Tue, 18 Apr 2023) EllapsedTime: 1766.8 seconds RetCode: 0 Status: OK PackageFile: SC3_1.26.2.tar.gz PackageFileSize: 3.156 MiB