Package: SANTA Version: 2.34.0 Command: rm -rf SANTA.buildbin-libdir && mkdir SANTA.buildbin-libdir && /Users/biocbuild/BBS/utils/build-universal.sh SANTA_2.34.0.tar.gz /Library/Frameworks/R.framework/Resources/bin/R SANTA.buildbin-libdir StartedAt: 2023-04-18 19:12:24 -0400 (Tue, 18 Apr 2023) EndedAt: 2023-04-18 19:12:46 -0400 (Tue, 18 Apr 2023) EllapsedTime: 21.7 seconds RetCode: 0 Status: OK PackageFile: SANTA_2.34.0.tgz PackageFileSize: 4.132 MiB