Package: S4Vectors Version: 0.36.2 Command: /Library/Frameworks/R.framework/Resources/bin/R CMD INSTALL S4Vectors StartedAt: 2023-04-16 14:18:43 -0400 (Sun, 16 Apr 2023) EndedAt: 2023-04-16 14:19:24 -0400 (Sun, 16 Apr 2023) EllapsedTime: 40.6 seconds RetCode: 0 Status: OK