Package: S4Vectors Version: 0.36.2 Command: rm -rf S4Vectors.buildbin-libdir && mkdir S4Vectors.buildbin-libdir && /Users/biocbuild/BBS/utils/build-universal.sh S4Vectors_0.36.2.tar.gz /Library/Frameworks/R.framework/Resources/bin/R S4Vectors.buildbin-libdir StartedAt: 2023-04-18 19:11:16 -0400 (Tue, 18 Apr 2023) EndedAt: 2023-04-18 19:12:24 -0400 (Tue, 18 Apr 2023) EllapsedTime: 68.4 seconds RetCode: 0 Status: OK PackageFile: S4Vectors_0.36.2.tgz PackageFileSize: 2.146 MiB