Package: Rmmquant
Version: 1.16.2
Command: rm -rf Rmmquant.buildbin-libdir && mkdir Rmmquant.buildbin-libdir && /Users/biocbuild/BBS/utils/build-universal.sh Rmmquant_1.16.2.tar.gz /Library/Frameworks/R.framework/Resources/bin/R Rmmquant.buildbin-libdir
StartedAt: 2023-04-18 18:57:00 -0400 (Tue, 18 Apr 2023)
EndedAt: 2023-04-18 18:59:20 -0400 (Tue, 18 Apr 2023)
EllapsedTime: 140.0 seconds
RetCode: 0
Status: OK
PackageFile: Rmmquant_1.16.2.tgz
PackageFileSize: 433.2 <A href="http://en.wikipedia.org/wiki/KiB" target="_blank">KiB</A>