Package: RepViz Version: 1.14.0 Command: /Library/Frameworks/R.framework/Resources/bin/R CMD build --keep-empty-dirs --no-resave-data RepViz StartedAt: 2023-04-18 00:38:59 -0400 (Tue, 18 Apr 2023) EndedAt: 2023-04-18 00:39:42 -0400 (Tue, 18 Apr 2023) EllapsedTime: 43.1 seconds RetCode: 0 Status: OK PackageFile: RepViz_1.14.0.tar.gz PackageFileSize: 252.6 KiB