Package: RepViz Version: 1.14.0 Command: rm -rf RepViz.buildbin-libdir && mkdir RepViz.buildbin-libdir && /Users/biocbuild/BBS/utils/build-universal.sh RepViz_1.14.0.tar.gz /Library/Frameworks/R.framework/Resources/bin/R RepViz.buildbin-libdir StartedAt: 2023-04-18 18:44:12 -0400 (Tue, 18 Apr 2023) EndedAt: 2023-04-18 18:45:11 -0400 (Tue, 18 Apr 2023) EllapsedTime: 58.4 seconds RetCode: 0 Status: OK PackageFile: RepViz_1.14.0.tgz PackageFileSize: 294.8 KiB