Package: RaggedExperiment Version: 1.22.0 Command: /Library/Frameworks/R.framework/Resources/bin/R CMD INSTALL RaggedExperiment StartedAt: 2023-04-16 14:47:22 -0400 (Sun, 16 Apr 2023) EndedAt: 2023-04-16 14:48:00 -0400 (Sun, 16 Apr 2023) EllapsedTime: 38.2 seconds RetCode: 0 Status: OK