Package: RTNduals
Version: 1.22.0
Command: /Library/Frameworks/R.framework/Resources/bin/R CMD build --keep-empty-dirs --no-resave-data RTNduals
StartedAt: 2023-04-18 02:39:57 -0400 (Tue, 18 Apr 2023)
EndedAt: 2023-04-18 02:41:34 -0400 (Tue, 18 Apr 2023)
EllapsedTime: 97.1 seconds
RetCode: 0
Status: OK
PackageFile: RTNduals_1.22.0.tar.gz
PackageFileSize: 584.2 <A href="http://en.wikipedia.org/wiki/KiB" target="_blank">KiB</A>