Package: RCM Version: 1.14.0 Command: /Library/Frameworks/R.framework/Resources/bin/R CMD INSTALL RCM StartedAt: 2023-04-16 15:56:24 -0400 (Sun, 16 Apr 2023) EndedAt: 2023-04-16 15:57:06 -0400 (Sun, 16 Apr 2023) EllapsedTime: 41.9 seconds RetCode: 0 Status: OK