Package: RCM Version: 1.14.0 Command: rm -rf RCM.buildbin-libdir && mkdir RCM.buildbin-libdir && /Users/biocbuild/BBS/utils/build-universal.sh RCM_1.14.0.tar.gz /Library/Frameworks/R.framework/Resources/bin/R RCM.buildbin-libdir StartedAt: 2023-04-18 18:37:44 -0400 (Tue, 18 Apr 2023) EndedAt: 2023-04-18 18:38:46 -0400 (Tue, 18 Apr 2023) EllapsedTime: 62.2 seconds RetCode: 0 Status: OK PackageFile: RCM_1.14.0.tgz PackageFileSize: 4.006 MiB