Package: RCASPAR
Version: 1.44.0
Command: /Library/Frameworks/R.framework/Resources/bin/R CMD INSTALL RCASPAR
StartedAt: 2023-04-16 14:04:31 -0400 (Sun, 16 Apr 2023)
EndedAt: 2023-04-16 14:04:35 -0400 (Sun, 16 Apr 2023)
EllapsedTime: 4.4 seconds
RetCode: 0
Status: OK