Package: QSutils Version: 1.16.0 Command: rm -rf QSutils.buildbin-libdir && mkdir QSutils.buildbin-libdir && /Users/biocbuild/BBS/utils/build-universal.sh QSutils_1.16.0.tar.gz /Library/Frameworks/R.framework/Resources/bin/R QSutils.buildbin-libdir StartedAt: 2023-04-18 18:29:45 -0400 (Tue, 18 Apr 2023) EndedAt: 2023-04-18 18:30:19 -0400 (Tue, 18 Apr 2023) EllapsedTime: 34.1 seconds RetCode: 0 Status: OK PackageFile: QSutils_1.16.0.tgz PackageFileSize: 1.349 MiB