| Back to Mac ARM64 build report for BioC 3.16 |
|
This page was generated on 2023-04-19 11:01:51 -0400 (Wed, 19 Apr 2023).
| Hostname | OS | Arch (*) | R version | Installed pkgs |
|---|---|---|---|---|
| kjohnson | macOS 13.0 Ventura | arm64 | 4.2.2 (2022-10-31) -- "Innocent and Trusting" | 4256 |
| Click on any hostname to see more info about the system (e.g. compilers) (*) as reported by 'uname -p', except on Windows and Mac OS X | ||||
|
To the developers/maintainers of the QDNAseq package: Make sure to use the following settings in order to reproduce any error or warning you see on this page. |
| Package 1560/2183 | Hostname | OS / Arch | INSTALL | BUILD | BUILD BIN | ||||||||
| QDNAseq 1.34.0 (landing page) Daoud Sie
| kjohnson | macOS 13.0 Ventura / arm64 | OK | OK | OK | ||||||||
| QUICK STATS | OS / Arch | INSTALL | BUILD | BUILD BIN | |||||||||||||
| kjohnson | macOS 13.0 Ventura / arm64 |
|
|
| |||||||||||||
| Package 1/4 | Hostname | OS / Arch | INSTALL | BUILD | BUILD BIN | ||||||||||||
| ACE 1.16.0 (landing page) Jos B Poell
| kjohnson | macOS 13.0 Ventura / arm64 | OK | OK | OK | ||||||||||||
| Package 2/4 | Hostname | OS / Arch | INSTALL | BUILD | BUILD BIN | ||||||||||||
| biscuiteer 1.12.0 (landing page) Jacob Morrison
| kjohnson | macOS 13.0 Ventura / arm64 | OK | OK | OK | ||||||||||||
| Package 3/4 | Hostname | OS / Arch | INSTALL | BUILD | BUILD BIN | ||||||||||||
| GeneBreak 1.28.0 (landing page) Evert van den Broek
| kjohnson | macOS 13.0 Ventura / arm64 | OK | OK | OK | ||||||||||||
| Package 4/4 | Hostname | OS / Arch | INSTALL | BUILD | BUILD BIN | ||||||||||||
| HiCcompare 1.20.0 (landing page) John Stansfield
| kjohnson | macOS 13.0 Ventura / arm64 | OK | OK | OK | ||||||||||||