Package: Prostar Version: 1.30.7 Command: /Library/Frameworks/R.framework/Resources/bin/R CMD INSTALL Prostar StartedAt: 2023-04-16 19:04:01 -0400 (Sun, 16 Apr 2023) EndedAt: 2023-04-16 19:04:26 -0400 (Sun, 16 Apr 2023) EllapsedTime: 25.2 seconds RetCode: 0 Status: OK