Package: Prostar Version: 1.30.7 Command: rm -rf Prostar.buildbin-libdir && mkdir Prostar.buildbin-libdir && /Users/biocbuild/BBS/utils/build-universal.sh Prostar_1.30.7.tar.gz /Library/Frameworks/R.framework/Resources/bin/R Prostar.buildbin-libdir StartedAt: 2023-04-18 18:23:57 -0400 (Tue, 18 Apr 2023) EndedAt: 2023-04-18 18:24:49 -0400 (Tue, 18 Apr 2023) EllapsedTime: 51.9 seconds RetCode: 0 Status: OK PackageFile: Prostar_1.30.7.tgz PackageFileSize: 3.762 MiB