Package: PepsNMR Version: 1.16.0 Command: /Library/Frameworks/R.framework/Resources/bin/R CMD build --keep-empty-dirs --no-resave-data PepsNMR StartedAt: 2023-04-17 21:22:47 -0400 (Mon, 17 Apr 2023) EndedAt: 2023-04-17 21:28:54 -0400 (Mon, 17 Apr 2023) EllapsedTime: 366.8 seconds RetCode: 0 Status: OK PackageFile: PepsNMR_1.16.0.tar.gz PackageFileSize: 1.113 MiB