Package: PREDA Version: 1.44.0 Command: /Library/Frameworks/R.framework/Resources/bin/R CMD build --keep-empty-dirs --no-resave-data PREDA StartedAt: 2023-04-17 22:28:29 -0400 (Mon, 17 Apr 2023) EndedAt: 2023-04-17 22:31:05 -0400 (Mon, 17 Apr 2023) EllapsedTime: 156.0 seconds RetCode: 0 Status: OK PackageFile: PREDA_1.44.0.tar.gz PackageFileSize: 2.003 MiB