Package: PREDA Version: 1.44.0 Command: rm -rf PREDA.buildbin-libdir && mkdir PREDA.buildbin-libdir && /Users/biocbuild/BBS/utils/build-universal.sh PREDA_1.44.0.tar.gz /Library/Frameworks/R.framework/Resources/bin/R PREDA.buildbin-libdir StartedAt: 2023-04-18 18:20:39 -0400 (Tue, 18 Apr 2023) EndedAt: 2023-04-18 18:21:38 -0400 (Tue, 18 Apr 2023) EllapsedTime: 58.5 seconds RetCode: 0 Status: OK PackageFile: PREDA_1.44.0.tgz PackageFileSize: 1.981 MiB