Package: PECA
Version: 1.34.0
Command: rm -rf PECA.buildbin-libdir && mkdir PECA.buildbin-libdir && /Users/biocbuild/BBS/utils/build-universal.sh PECA_1.34.0.tar.gz /Library/Frameworks/R.framework/Resources/bin/R PECA.buildbin-libdir
StartedAt: 2023-04-18 18:10:49 -0400 (Tue, 18 Apr 2023)
EndedAt: 2023-04-18 18:11:46 -0400 (Tue, 18 Apr 2023)
EllapsedTime: 56.8 seconds
RetCode: 0
Status: OK
PackageFile: PECA_1.34.0.tgz
PackageFileSize: 224.9 <A href="http://en.wikipedia.org/wiki/KiB" target="_blank">KiB</A>