Package: OPWeight Version: 1.20.0 Command: rm -rf OPWeight.buildbin-libdir && mkdir OPWeight.buildbin-libdir && /Users/biocbuild/BBS/utils/build-universal.sh OPWeight_1.20.0.tar.gz /Library/Frameworks/R.framework/Resources/bin/R OPWeight.buildbin-libdir StartedAt: 2023-04-18 18:04:17 -0400 (Tue, 18 Apr 2023) EndedAt: 2023-04-18 18:04:31 -0400 (Tue, 18 Apr 2023) EllapsedTime: 13.6 seconds RetCode: 0 Status: OK PackageFile: OPWeight_1.20.0.tgz PackageFileSize: 482.9 KiB