Package: NeuCA Version: 1.4.0 Command: /Library/Frameworks/R.framework/Resources/bin/R CMD build --keep-empty-dirs --no-resave-data NeuCA StartedAt: 2023-04-17 18:51:03 -0400 (Mon, 17 Apr 2023) EndedAt: 2023-04-17 18:51:50 -0400 (Mon, 17 Apr 2023) EllapsedTime: 46.9 seconds RetCode: 1 Status: ERROR PackageFile: None PackageFileSize: NA