Package: MultiMed Version: 2.20.0 Command: /Library/Frameworks/R.framework/Resources/bin/R CMD build --keep-empty-dirs --no-resave-data MultiMed StartedAt: 2023-04-17 17:54:47 -0400 (Mon, 17 Apr 2023) EndedAt: 2023-04-17 17:55:03 -0400 (Mon, 17 Apr 2023) EllapsedTime: 16.3 seconds RetCode: 0 Status: OK PackageFile: MultiMed_2.20.0.tar.gz PackageFileSize: 508.1 KiB