Package: MsCoreUtils Version: 1.10.0 Command: /Library/Frameworks/R.framework/Resources/bin/R CMD INSTALL MsCoreUtils StartedAt: 2023-04-16 14:19:27 -0400 (Sun, 16 Apr 2023) EndedAt: 2023-04-16 14:19:40 -0400 (Sun, 16 Apr 2023) EllapsedTime: 12.6 seconds RetCode: 0 Status: OK