Package: MsCoreUtils Version: 1.10.0 Command: /Library/Frameworks/R.framework/Resources/bin/R CMD build --keep-empty-dirs --no-resave-data MsCoreUtils StartedAt: 2023-04-17 16:59:01 -0400 (Mon, 17 Apr 2023) EndedAt: 2023-04-17 16:59:18 -0400 (Mon, 17 Apr 2023) EllapsedTime: 17.4 seconds RetCode: 0 Status: OK PackageFile: MsCoreUtils_1.10.0.tar.gz PackageFileSize: 376.1 KiB