| Back to Mac ARM64 build report for BioC 3.16 |
|
This page was generated on 2023-04-19 11:01:50 -0400 (Wed, 19 Apr 2023).
| Hostname | OS | Arch (*) | R version | Installed pkgs |
|---|---|---|---|---|
| kjohnson | macOS 13.0 Ventura | arm64 | 4.2.2 (2022-10-31) -- "Innocent and Trusting" | 4256 |
| Click on any hostname to see more info about the system (e.g. compilers) (*) as reported by 'uname -p', except on Windows and Mac OS X | ||||
|
To the developers/maintainers of the MsCoreUtils package: Make sure to use the following settings in order to reproduce any error or warning you see on this page. |
| Package 1270/2183 | Hostname | OS / Arch | INSTALL | BUILD | BUILD BIN | ||||||||
| MsCoreUtils 1.10.0 (landing page) RforMassSpectrometry Package Maintainer
| kjohnson | macOS 13.0 Ventura / arm64 | OK | OK | OK | ||||||||
| QUICK STATS | OS / Arch | INSTALL | BUILD | BUILD BIN | |||||||||||||
| kjohnson | macOS 13.0 Ventura / arm64 |
|
|
| |||||||||||||
| Package 1/16 | Hostname | OS / Arch | INSTALL | BUILD | BUILD BIN | ||||||||||||
| CompoundDb 1.2.1 (landing page) Johannes Rainer
| kjohnson | macOS 13.0 Ventura / arm64 | OK | OK | OK | ||||||||||||
| Package 2/16 | Hostname | OS / Arch | INSTALL | BUILD | BUILD BIN | ||||||||||||
| MetaboAnnotation 1.2.0 (landing page) Johannes Rainer
| kjohnson | macOS 13.0 Ventura / arm64 | OK | OK | OK | ||||||||||||
| Package 3/16 | Hostname | OS / Arch | INSTALL | BUILD | BUILD BIN | ||||||||||||
| MetaboCoreUtils 1.6.0 (landing page) Johannes Rainer
| kjohnson | macOS 13.0 Ventura / arm64 | OK | OK | OK | ||||||||||||
| Package 4/16 | Hostname | OS / Arch | INSTALL | BUILD | BUILD BIN | ||||||||||||
| MetCirc 1.28.0 (landing page) Thomas Naake
| kjohnson | macOS 13.0 Ventura / arm64 | OK | OK | OK | ||||||||||||
| Package 5/16 | Hostname | OS / Arch | INSTALL | BUILD | BUILD BIN | ||||||||||||
| MsBackendMassbank 1.6.1 (landing page) RforMassSpectrometry Package Maintainer
| kjohnson | macOS 13.0 Ventura / arm64 | OK | OK | OK | ||||||||||||
| Package 6/16 | Hostname | OS / Arch | INSTALL | BUILD | BUILD BIN | ||||||||||||
| MsBackendMgf 1.6.0 (landing page) RforMassSpectrometry Package Maintainer
| kjohnson | macOS 13.0 Ventura / arm64 | OK | OK | OK | ||||||||||||
| Package 7/16 | Hostname | OS / Arch | INSTALL | BUILD | BUILD BIN | ||||||||||||
| MsBackendMsp 1.2.0 (landing page) Johannes Rainer
| kjohnson | macOS 13.0 Ventura / arm64 | OK | OK | OK | ||||||||||||
| Package 8/16 | Hostname | OS / Arch | INSTALL | BUILD | BUILD BIN | ||||||||||||
| MsBackendRawFileReader 1.4.0 (landing page) Christian Panse
| kjohnson | macOS 13.0 Ventura / arm64 | ERROR | ERROR | skipped | ||||||||||||
| Package 9/16 | Hostname | OS / Arch | INSTALL | BUILD | BUILD BIN | ||||||||||||
| MsFeatures 1.6.0 (landing page) Johannes Rainer
| kjohnson | macOS 13.0 Ventura / arm64 | OK | OK | OK | ||||||||||||
| Package 10/16 | Hostname | OS / Arch | INSTALL | BUILD | BUILD BIN | ||||||||||||
| MSnbase 2.24.2 (landing page) Laurent Gatto
| kjohnson | macOS 13.0 Ventura / arm64 | OK | OK | OK | ||||||||||||
| Package 11/16 | Hostname | OS / Arch | INSTALL | BUILD | BUILD BIN | ||||||||||||
| PSMatch 1.2.0 (landing page) Laurent Gatto
| kjohnson | macOS 13.0 Ventura / arm64 | OK | OK | OK | ||||||||||||
| Package 12/16 | Hostname | OS / Arch | INSTALL | BUILD | BUILD BIN | ||||||||||||
| QFeatures 1.8.0 (landing page) Laurent Gatto
| kjohnson | macOS 13.0 Ventura / arm64 | OK | OK | OK | ||||||||||||
| Package 13/16 | Hostname | OS / Arch | INSTALL | BUILD | BUILD BIN | ||||||||||||
| qmtools 1.2.0 (landing page) Jaehyun Joo
| kjohnson | macOS 13.0 Ventura / arm64 | OK | OK | OK | ||||||||||||
| Package 14/16 | Hostname | OS / Arch | INSTALL | BUILD | BUILD BIN | ||||||||||||
| scp 1.8.0 (landing page) Christophe Vanderaa
| kjohnson | macOS 13.0 Ventura / arm64 | OK | OK | OK | ||||||||||||
| Package 15/16 | Hostname | OS / Arch | INSTALL | BUILD | BUILD BIN | ||||||||||||
| Spectra 1.8.3 (landing page) RforMassSpectrometry Package Maintainer
| kjohnson | macOS 13.0 Ventura / arm64 | OK | OK | OK | ||||||||||||
| Package 16/16 | Hostname | OS / Arch | INSTALL | BUILD | BUILD BIN | ||||||||||||
| xcms 3.20.0 (landing page) Steffen Neumann
| kjohnson | macOS 13.0 Ventura / arm64 | OK | OK | OK | ||||||||||||