Package: MiChip Version: 1.52.0 Command: /Library/Frameworks/R.framework/Resources/bin/R CMD build --keep-empty-dirs --no-resave-data MiChip StartedAt: 2023-04-17 15:08:36 -0400 (Mon, 17 Apr 2023) EndedAt: 2023-04-17 15:08:52 -0400 (Mon, 17 Apr 2023) EllapsedTime: 16.3 seconds RetCode: 0 Status: OK PackageFile: MiChip_1.52.0.tar.gz PackageFileSize: 651.3 KiB