Package: MethPed Version: 1.26.0 Command: /Library/Frameworks/R.framework/Resources/bin/R CMD INSTALL MethPed StartedAt: 2023-04-16 14:57:00 -0400 (Sun, 16 Apr 2023) EndedAt: 2023-04-16 14:57:11 -0400 (Sun, 16 Apr 2023) EllapsedTime: 11.0 seconds RetCode: 0 Status: OK