Package: MetaboCoreUtils
Version: 1.6.0
Command: /Library/Frameworks/R.framework/Resources/bin/R CMD INSTALL MetaboCoreUtils
StartedAt: 2023-04-16 14:20:52 -0400 (Sun, 16 Apr 2023)
EndedAt: 2023-04-16 14:21:02 -0400 (Sun, 16 Apr 2023)
EllapsedTime: 9.9 seconds
RetCode: 0
Status: OK