Package: MetCirc Version: 1.28.0 Command: rm -rf MetCirc.buildbin-libdir && mkdir MetCirc.buildbin-libdir && /Users/biocbuild/BBS/utils/build-universal.sh MetCirc_1.28.0.tar.gz /Library/Frameworks/R.framework/Resources/bin/R MetCirc.buildbin-libdir StartedAt: 2023-04-18 17:08:32 -0400 (Tue, 18 Apr 2023) EndedAt: 2023-04-18 17:09:09 -0400 (Tue, 18 Apr 2023) EllapsedTime: 36.5 seconds RetCode: 0 Status: OK PackageFile: MetCirc_1.28.0.tgz PackageFileSize: 1.908 MiB