Package: MeasurementError.cor Version: 1.70.0 Command: rm -rf MeasurementError.cor.buildbin-libdir && mkdir MeasurementError.cor.buildbin-libdir && /Users/biocbuild/BBS/utils/build-universal.sh MeasurementError.cor_1.70.0.tar.gz /Library/Frameworks/R.framework/Resources/bin/R MeasurementError.cor.buildbin-libdir StartedAt: 2023-04-18 17:01:30 -0400 (Tue, 18 Apr 2023) EndedAt: 2023-04-18 17:01:39 -0400 (Tue, 18 Apr 2023) EllapsedTime: 8.9 seconds RetCode: 0 Status: OK PackageFile: MeasurementError.cor_1.70.0.tgz PackageFileSize: 172.5 KiB