Package: MVCClass Version: 1.72.0 Command: /Library/Frameworks/R.framework/Resources/bin/R CMD build --keep-empty-dirs --no-resave-data MVCClass StartedAt: 2023-04-17 18:12:01 -0400 (Mon, 17 Apr 2023) EndedAt: 2023-04-17 18:12:11 -0400 (Mon, 17 Apr 2023) EllapsedTime: 10.2 seconds RetCode: 0 Status: OK PackageFile: MVCClass_1.72.0.tar.gz PackageFileSize: 1.031 MiB