Package: MSstatsShiny Version: 1.0.10 Command: /Library/Frameworks/R.framework/Resources/bin/R CMD build --keep-empty-dirs --no-resave-data MSstatsShiny StartedAt: 2023-04-17 17:40:31 -0400 (Mon, 17 Apr 2023) EndedAt: 2023-04-17 17:41:50 -0400 (Mon, 17 Apr 2023) EllapsedTime: 78.6 seconds RetCode: 0 Status: OK PackageFile: MSstatsShiny_1.0.10.tar.gz PackageFileSize: 1.101 MiB