Package: MSstatsShiny Version: 1.0.10 Command: rm -rf MSstatsShiny.buildbin-libdir && mkdir MSstatsShiny.buildbin-libdir && /Users/biocbuild/BBS/utils/build-universal.sh MSstatsShiny_1.0.10.tar.gz /Library/Frameworks/R.framework/Resources/bin/R MSstatsShiny.buildbin-libdir StartedAt: 2023-04-18 17:39:49 -0400 (Tue, 18 Apr 2023) EndedAt: 2023-04-18 17:40:43 -0400 (Tue, 18 Apr 2023) EllapsedTime: 54.3 seconds RetCode: 0 Status: OK PackageFile: MSstatsShiny_1.0.10.tgz PackageFileSize: 1.161 MiB