Package: MSstatsQC Version: 2.16.0 Command: rm -rf MSstatsQC.buildbin-libdir && mkdir MSstatsQC.buildbin-libdir && /Users/biocbuild/BBS/utils/build-universal.sh MSstatsQC_2.16.0.tar.gz /Library/Frameworks/R.framework/Resources/bin/R MSstatsQC.buildbin-libdir StartedAt: 2023-04-18 17:38:53 -0400 (Tue, 18 Apr 2023) EndedAt: 2023-04-18 17:39:38 -0400 (Tue, 18 Apr 2023) EllapsedTime: 44.6 seconds RetCode: 0 Status: OK PackageFile: MSstatsQC_2.16.0.tgz PackageFileSize: 2.057 MiB