| Back to Mac ARM64 build report for BioC 3.16 | 
  | 
This page was generated on 2023-04-19 11:01:50 -0400 (Wed, 19 Apr 2023).
| Hostname | OS | Arch (*) | R version | Installed pkgs | 
|---|---|---|---|---|
| kjohnson | macOS 13.0 Ventura | arm64 | 4.2.2 (2022-10-31) -- "Innocent and Trusting" | 4256 | 
| Click on any hostname to see more info about the system (e.g. compilers) (*) as reported by 'uname -p', except on Windows and Mac OS X | ||||
| 
To the developers/maintainers of the MSnbase package: Make sure to use the following settings in order to reproduce any error or warning you see on this page.  | 
| Package 1278/2183 | Hostname | OS / Arch | INSTALL | BUILD | BUILD BIN | ||||||||
| MSnbase 2.24.2  (landing page) Laurent Gatto 
  | kjohnson | macOS 13.0 Ventura / arm64 | OK | OK | OK | ||||||||
| QUICK STATS | OS / Arch | INSTALL | BUILD | BUILD BIN | |||||||||||||
| kjohnson | macOS 13.0 Ventura / arm64 | 
  | 
  | 
  | |||||||||||||
| Package 1/20 | Hostname | OS / Arch | INSTALL | BUILD | BUILD BIN | ||||||||||||
| bandle 1.2.2  (landing page) Oliver M. Crook 
  | kjohnson | macOS 13.0 Ventura / arm64 | OK | OK | OK | ||||||||||||
| Package 2/20 | Hostname | OS / Arch | INSTALL | BUILD | BUILD BIN | ||||||||||||
| cliqueMS 1.12.2  (landing page) Oriol Senan Campos 
  | kjohnson | macOS 13.0 Ventura / arm64 | OK | OK | OK | ||||||||||||
| Package 3/20 | Hostname | OS / Arch | INSTALL | BUILD | BUILD BIN | ||||||||||||
| CluMSID 1.14.0  (landing page) Tobias Depke 
  | kjohnson | macOS 13.0 Ventura / arm64 | OK | OK | OK | ||||||||||||
| Package 4/20 | Hostname | OS / Arch | INSTALL | BUILD | BUILD BIN | ||||||||||||
| DAPAR 1.30.6  (landing page) Samuel Wieczorek 
  | kjohnson | macOS 13.0 Ventura / arm64 | OK | OK | OK | ||||||||||||
| Package 5/20 | Hostname | OS / Arch | INSTALL | BUILD | BUILD BIN | ||||||||||||
| DEP 1.20.0  (landing page) Arne Smits 
  | kjohnson | macOS 13.0 Ventura / arm64 | OK | OK | OK | ||||||||||||
| Package 6/20 | Hostname | OS / Arch | INSTALL | BUILD | BUILD BIN | ||||||||||||
| MobilityTransformR 1.2.0  (landing page) Liesa Salzer 
  | kjohnson | macOS 13.0 Ventura / arm64 | OK | OK | OK | ||||||||||||
| Package 7/20 | Hostname | OS / Arch | INSTALL | BUILD | BUILD BIN | ||||||||||||
| msmsEDA 1.36.0  (landing page) Josep Gregori 
  | kjohnson | macOS 13.0 Ventura / arm64 | OK | OK | OK | ||||||||||||
| Package 8/20 | Hostname | OS / Arch | INSTALL | BUILD | BUILD BIN | ||||||||||||
| msmsTests 1.36.0  (landing page) Josep Gregori i Font 
  | kjohnson | macOS 13.0 Ventura / arm64 | OK | OK | OK | ||||||||||||
| Package 9/20 | Hostname | OS / Arch | INSTALL | BUILD | BUILD BIN | ||||||||||||
| MSnID 1.32.0  (landing page) Vlad Petyuk 
  | kjohnson | macOS 13.0 Ventura / arm64 | OK | OK | OK | ||||||||||||
| Package 10/20 | Hostname | OS / Arch | INSTALL | BUILD | BUILD BIN | ||||||||||||
| MSstatsQC 2.16.0  (landing page) Eralp Dogu 
  | kjohnson | macOS 13.0 Ventura / arm64 | OK | OK | OK | ||||||||||||
| Package 11/20 | Hostname | OS / Arch | INSTALL | BUILD | BUILD BIN | ||||||||||||
| peakPantheR 1.12.2  (landing page) Arnaud Wolfer 
  | kjohnson | macOS 13.0 Ventura / arm64 | OK | OK | OK | ||||||||||||
| Package 12/20 | Hostname | OS / Arch | INSTALL | BUILD | BUILD BIN | ||||||||||||
| PrInCE 1.14.0  (landing page) Michael Skinnider 
  | kjohnson | macOS 13.0 Ventura / arm64 | OK | OK | OK | ||||||||||||
| Package 13/20 | Hostname | OS / Arch | INSTALL | BUILD | BUILD BIN | ||||||||||||
| pRoloc 1.38.2  (landing page) Laurent Gatto 
  | kjohnson | macOS 13.0 Ventura / arm64 | OK | OK | OK | ||||||||||||
| Package 14/20 | Hostname | OS / Arch | INSTALL | BUILD | BUILD BIN | ||||||||||||
| pRolocGUI 2.8.0  (landing page) Lisa Breckels 
  | kjohnson | macOS 13.0 Ventura / arm64 | OK | OK | OK | ||||||||||||
| Package 15/20 | Hostname | OS / Arch | INSTALL | BUILD | BUILD BIN | ||||||||||||
| ptairMS 1.6.0  (landing page) camille Roquencourt 
  | kjohnson | macOS 13.0 Ventura / arm64 | OK | OK | OK | ||||||||||||
| Package 16/20 | Hostname | OS / Arch | INSTALL | BUILD | BUILD BIN | ||||||||||||
| qPLEXanalyzer 1.16.1  (landing page) Ashley Sawle 
  | kjohnson | macOS 13.0 Ventura / arm64 | OK | OK | OK | ||||||||||||
| Package 17/20 | Hostname | OS / Arch | INSTALL | BUILD | BUILD BIN | ||||||||||||
| RMassBank 3.8.0  (landing page) RMassBank at Eawag 
  | kjohnson | macOS 13.0 Ventura / arm64 | ERROR | ERROR | skipped | ||||||||||||
| Package 18/20 | Hostname | OS / Arch | INSTALL | BUILD | BUILD BIN | ||||||||||||
| synapter 2.22.0  (landing page) Laurent Gatto 
  | kjohnson | macOS 13.0 Ventura / arm64 | OK | OK | OK | ||||||||||||
| Package 19/20 | Hostname | OS / Arch | INSTALL | BUILD | BUILD BIN | ||||||||||||
| topdownr 1.20.0  (landing page) Sebastian Gibb 
  | kjohnson | macOS 13.0 Ventura / arm64 | OK | OK | OK | ||||||||||||
| Package 20/20 | Hostname | OS / Arch | INSTALL | BUILD | BUILD BIN | ||||||||||||
| xcms 3.20.0  (landing page) Steffen Neumann 
  | kjohnson | macOS 13.0 Ventura / arm64 | OK | OK | OK | ||||||||||||