Package: MOMA
Version: 1.10.0
Command: /Library/Frameworks/R.framework/Resources/bin/R CMD build --keep-empty-dirs --no-resave-data MOMA
StartedAt: 2023-04-17 16:11:40 -0400 (Mon, 17 Apr 2023)
EndedAt: 2023-04-17 16:13:56 -0400 (Mon, 17 Apr 2023)
EllapsedTime: 136.4 seconds
RetCode: 0
Status: OK
PackageFile: MOMA_1.10.0.tar.gz
PackageFileSize: 4.249 <A href="http://en.wikipedia.org/wiki/MiB" target="_blank">MiB</A>