Package: MOMA Version: 1.10.0 Command: rm -rf MOMA.buildbin-libdir && mkdir MOMA.buildbin-libdir && /Users/biocbuild/BBS/utils/build-universal.sh MOMA_1.10.0.tar.gz /Library/Frameworks/R.framework/Resources/bin/R MOMA.buildbin-libdir StartedAt: 2023-04-18 17:28:55 -0400 (Tue, 18 Apr 2023) EndedAt: 2023-04-18 17:30:19 -0400 (Tue, 18 Apr 2023) EllapsedTime: 83.8 seconds RetCode: 0 Status: OK PackageFile: MOMA_1.10.0.tgz PackageFileSize: 5.302 MiB