Package: MBAmethyl Version: 1.32.0 Command: /Library/Frameworks/R.framework/Resources/bin/R CMD INSTALL MBAmethyl StartedAt: 2023-04-16 14:18:35 -0400 (Sun, 16 Apr 2023) EndedAt: 2023-04-16 14:18:39 -0400 (Sun, 16 Apr 2023) EllapsedTime: 3.6 seconds RetCode: 0 Status: OK